BEGIN:VCALENDAR
VERSION:2.0
PRODID:icalendar-ruby
CALSCALE:GREGORIAN
METHOD:PUBLISH
BEGIN:VEVENT
DTSTAMP:20260421T155147Z
UID:35-382052@peacelutheranchurch.ca
DTSTART:20261030T140000Z
DTEND:20261030T160000Z
CLASS:PUBLIC
CREATED:20260421T102400
DESCRIPTION:
LAST-MODIFIED:20260421T102400
LOCATION:
SUMMARY:Sewing with Shirley
URL;VALUE=URI:https://www.peacelutheranchurch.ca/events/sewing-with-shirley
 --35/2026-10-30
ATTACH;FILENAME=sewing.png;FMTTYPE=image/png:https://dq5pwpg1q8ru0.cloudfro
 nt.net/2026/04/15/18/41/13/0bbef5bd-bad0-4a7a-9071-1c652292e9e2/sewing.png
END:VEVENT
END:VCALENDAR
