BEGIN:VCALENDAR
VERSION:2.0
PRODID:icalendar-ruby
CALSCALE:GREGORIAN
METHOD:PUBLISH
BEGIN:VEVENT
DTSTAMP:20260421T084111Z
UID:33-370072@peacelutheranchurch.ca
DTSTART:20260422T230000Z
DTEND:20260423T020000Z
CLASS:PUBLIC
CREATED:20260415T143327
DESCRIPTION:
LAST-MODIFIED:20260415T143327
LOCATION:
SUMMARY:PLC Council Meeting
URL;VALUE=URI:https://www.peacelutheranchurch.ca/events/plc-council-meeting
 /2026-04-22
END:VEVENT
END:VCALENDAR
